BEGIN:VCALENDAR
VERSION:2.0
PRODID:-//South African Fans of LEGOⓇ - ECPv6.15.13//NONSGML v1.0//EN
CALSCALE:GREGORIAN
METHOD:PUBLISH
X-WR-CALNAME:South African Fans of LEGOⓇ
X-ORIGINAL-URL:https://www.safols.co.za
X-WR-CALDESC:Events for South African Fans of LEGOⓇ
REFRESH-INTERVAL;VALUE=DURATION:PT1H
X-Robots-Tag:noindex
X-PUBLISHED-TTL:PT1H
BEGIN:VTIMEZONE
TZID:Europe/Helsinki
BEGIN:DAYLIGHT
TZOFFSETFROM:+0200
TZOFFSETTO:+0300
TZNAME:EEST
DTSTART:20170326T010000
END:DAYLIGHT
BEGIN:STANDARD
TZOFFSETFROM:+0300
TZOFFSETTO:+0200
TZNAME:EET
DTSTART:20171029T010000
END:STANDARD
BEGIN:DAYLIGHT
TZOFFSETFROM:+0200
TZOFFSETTO:+0300
TZNAME:EEST
DTSTART:20180325T010000
END:DAYLIGHT
BEGIN:STANDARD
TZOFFSETFROM:+0300
TZOFFSETTO:+0200
TZNAME:EET
DTSTART:20181028T010000
END:STANDARD
BEGIN:DAYLIGHT
TZOFFSETFROM:+0200
TZOFFSETTO:+0300
TZNAME:EEST
DTSTART:20190331T010000
END:DAYLIGHT
BEGIN:STANDARD
TZOFFSETFROM:+0300
TZOFFSETTO:+0200
TZNAME:EET
DTSTART:20191027T010000
END:STANDARD
BEGIN:DAYLIGHT
TZOFFSETFROM:+0200
TZOFFSETTO:+0300
TZNAME:EEST
DTSTART:20200329T010000
END:DAYLIGHT
BEGIN:STANDARD
TZOFFSETFROM:+0300
TZOFFSETTO:+0200
TZNAME:EET
DTSTART:20201025T010000
END:STANDARD
BEGIN:DAYLIGHT
TZOFFSETFROM:+0200
TZOFFSETTO:+0300
TZNAME:EEST
DTSTART:20210328T010000
END:DAYLIGHT
BEGIN:STANDARD
TZOFFSETFROM:+0300
TZOFFSETTO:+0200
TZNAME:EET
DTSTART:20211031T010000
END:STANDARD
END:VTIMEZONE
BEGIN:VEVENT
DTSTART;VALUE=DATE:20200314
DTEND;VALUE=DATE:20200315
DTSTAMP:20260421T131624
CREATED:20200219T123027Z
LAST-MODIFIED:20200219T123027Z
UID:1489-1584144000-1584230399@www.safols.co.za
SUMMARY:CapeLUG Table Brick Show
DESCRIPTION:
URL:https://www.safols.co.za/event/capelug-table-brick-show/
LOCATION:Table Bay Mall\, Corner or Berkshire Boulevard and R27\, Sunningdale\, Cape Town\, Western Cape\, 7741\, South Africa
ORGANIZER;CN="CapeLUG":MAILTO:chair@capelug.co.za
END:VEVENT
BEGIN:VEVENT
DTSTART;TZID=Europe/Helsinki:20191130T090000
DTEND;TZID=Europe/Helsinki:20191130T160000
DTSTAMP:20260421T131624
CREATED:20191121T090549Z
LAST-MODIFIED:20191121T090549Z
UID:1126-1575104400-1575129600@www.safols.co.za
SUMMARY:Brick Saturday
DESCRIPTION:
URL:https://www.safols.co.za/event/brick-saturday/
LOCATION:Willowbridge Shopping Centre\, South Africa
ORGANIZER;CN="CapeLUG":MAILTO:chair@capelug.co.za
END:VEVENT
BEGIN:VEVENT
DTSTART;TZID=Europe/Helsinki:20191026T080000
DTEND;TZID=Europe/Helsinki:20191027T170000
DTSTAMP:20260421T131624
CREATED:20190903T134922Z
LAST-MODIFIED:20190903T134922Z
UID:935-1572076800-1572195600@www.safols.co.za
SUMMARY:Brick Fair 2019
DESCRIPTION:
URL:https://www.safols.co.za/event/brick-fair-2019/
LOCATION:Menlyn Shopping Centre\, Atterbury Rd & Lois Ave\, Menlyn Park\, Pretoria\, Gauteng\, 0063\, South Africa
ORGANIZER;CN="Brick Fair":MAILTO:hello@brickfair.co.za
END:VEVENT
BEGIN:VEVENT
DTSTART;TZID=Europe/Helsinki:20190928T080000
DTEND;TZID=Europe/Helsinki:20190928T210000
DTSTAMP:20260421T131624
CREATED:20190909T061922Z
LAST-MODIFIED:20190909T061922Z
UID:944-1569657600-1569704400@www.safols.co.za
SUMMARY:LCS Canal Walk Grand Opening
DESCRIPTION:
URL:https://www.safols.co.za/event/lcs-canal-walk-grand-opening/
LOCATION:Canal Walk\, Century Blvd\, Century City\, Cape Town\, Western Cape\, 7441\, South Africa
END:VEVENT
BEGIN:VEVENT
DTSTART;TZID=Europe/Helsinki:20190921T090000
DTEND;TZID=Europe/Helsinki:20190921T200000
DTSTAMP:20260421T131624
CREATED:20190821T142038Z
LAST-MODIFIED:20190821T142038Z
UID:929-1569056400-1569096000@www.safols.co.za
SUMMARY:CapeLUG Bricks Showcase
DESCRIPTION:
URL:https://www.safols.co.za/event/capelug-bricks-showcase/
LOCATION:Cape Gate\, Cnr. Okavango Rd &\, De Bron Rd\, Brackenfell\, Cape Town\, Western Cape\, 7562\, South Africa
ORGANIZER;CN="CapeLUG":MAILTO:chair@capelug.co.za
END:VEVENT
BEGIN:VEVENT
DTSTART;TZID=Europe/Helsinki:20190914T090000
DTEND;TZID=Europe/Helsinki:20190914T120000
DTSTAMP:20260421T131624
CREATED:20190814T083102Z
LAST-MODIFIED:20190814T103930Z
UID:909-1568451600-1568462400@www.safols.co.za
SUMMARY:jhbLUG "Bricks Galore"
DESCRIPTION:
URL:https://www.safols.co.za/event/jhblug-bricks-galore/
LOCATION:Unity College\, 59 Runnymead Ave\, Chartwell\, Johannesburg\, Gauteng\, 2055\, South Africa
ORGANIZER;CN="jhbLUG":MAILTO:info@jhblug.co.za
END:VEVENT
BEGIN:VEVENT
DTSTART;TZID=Europe/Helsinki:20190824T080000
DTEND;TZID=Europe/Helsinki:20190825T170000
DTSTAMP:20260421T131624
CREATED:20190814T103811Z
LAST-MODIFIED:20190814T104055Z
UID:921-1566633600-1566752400@www.safols.co.za
SUMMARY:zaLUG Clearwater Mall
DESCRIPTION:
URL:https://www.safols.co.za/event/zalug-clearwater-mall/
LOCATION:Clearwater Mall\, Clearwater Mall\, Strubens Valley\, Roodepoort\, Gauteng\, 2062\, South Africa
ORGANIZER;CN="zaLUG":MAILTO:tony@zalug.co.za
END:VEVENT
BEGIN:VEVENT
DTSTART;TZID=Europe/Helsinki:20181124T090000
DTEND;TZID=Europe/Helsinki:20181125T150000
DTSTAMP:20260421T131624
CREATED:20181110T193413Z
LAST-MODIFIED:20181110T193413Z
UID:88-1543050000-1543158000@www.safols.co.za
SUMMARY:Pops Toys
DESCRIPTION:
URL:https://www.safols.co.za/event/pops-toys/
LOCATION:Northmead Square\, 14th Ave\, Northmead\, Benoni\, South Africa
END:VEVENT
BEGIN:VEVENT
DTSTART;TZID=Europe/Helsinki:20181124T080000
DTEND;TZID=Europe/Helsinki:20181124T180000
DTSTAMP:20260421T131624
CREATED:20181110T193755Z
LAST-MODIFIED:20181110T193755Z
UID:92-1543046400-1543082400@www.safols.co.za
SUMMARY:Hyde Park Corner
DESCRIPTION:zaLUG Exhibition @ Hyde Park Corner\, 8am – 6pm\, free entrace – more info to follow.
URL:https://www.safols.co.za/event/hyde-park-corner/
LOCATION:Hyde Park Corner\, Corner Jan Smuts Avenue and William Nicol Drive\, Johannesburg\, South Africa
END:VEVENT
BEGIN:VEVENT
DTSTART;TZID=Europe/Helsinki:20181124T080000
DTEND;TZID=Europe/Helsinki:20181124T170000
DTSTAMP:20260421T131624
CREATED:20181110T193023Z
LAST-MODIFIED:20181110T193023Z
UID:85-1543046400-1543078800@www.safols.co.za
SUMMARY:CapeLUG Exhibition
DESCRIPTION:
URL:https://www.safols.co.za/event/capelug-exhibition/
LOCATION:Willowbridge Shopping Centre\, South Africa
END:VEVENT
END:VCALENDAR